BEGIN:VCALENDAR

VERSION:2.0
PRODID:Puschen
METHOD:REQUEST
CALSCALE:GREGORIAN

BEGIN:VEVENT

UID:20261130Shaking Hand
SUMMARY:Shaking Hand @ Schokoladen

DTSTART;TZID=Europe/Berlin:20261130T190000

DTEND;TZID=Europe/Berlin:20261130T230000
DTSTAMP:20260423T090406
LOCATION:Schokoladen, Ackerstraße 169, 10115 Berlin
URL:https://vvk.link/4dxgwog
STATUS:CONFIRMED
TRANSPARENCY:OPAQUE

END:VEVENT
END:VCALENDAR