BEGIN:VCALENDAR

VERSION:2.0
PRODID:Puschen
METHOD:REQUEST
CALSCALE:GREGORIAN

BEGIN:VEVENT

UID:20260928Sessa
SUMMARY:Sessa @ Gretchen

DTSTART;TZID=Europe/Berlin:20260928T190000

DTEND;TZID=Europe/Berlin:20260928T230000
DTSTAMP:20260420T111601
LOCATION:Gretchen, Obentrautstr.19-21, 10963 Berlin
URL:https://www.tixforgigs.com/Event/73508
STATUS:CONFIRMED
TRANSPARENCY:OPAQUE

END:VEVENT
END:VCALENDAR