BEGIN:VCALENDAR

VERSION:2.0
PRODID:Puschen
METHOD:REQUEST
CALSCALE:GREGORIAN

BEGIN:VEVENT

UID:20260907Francis of Delirium
SUMMARY:Francis of Delirium @ Neue Zukunft (Garage)

DTSTART;TZID=Europe/Berlin:20260907T190000

DTEND;TZID=Europe/Berlin:20260907T230000
DTSTAMP:20260423T090406
LOCATION:Neue Zukunft (Garage), Alt-Stralau 68, 10245 Berlin
URL:https://www.tixforgigs.com/Event/73707
STATUS:CONFIRMED
TRANSPARENCY:OPAQUE

END:VEVENT
END:VCALENDAR