BEGIN:VCALENDAR

VERSION:2.0
PRODID:Puschen
METHOD:REQUEST
CALSCALE:GREGORIAN

BEGIN:VEVENT

UID:20260903Kurt Vile & The Violators
SUMMARY:Kurt Vile & The Violators @ Huxleys Neue Welt

DTSTART;TZID=Europe/Berlin:20260903T190000

DTEND;TZID=Europe/Berlin:20260903T230000
DTSTAMP:20260407T113358
LOCATION:Huxleys Neue Welt, Hasenheide 107, 10967 Berlin
URL:https://www.tixforgigs.com/Event/73254
STATUS:CONFIRMED
TRANSPARENCY:OPAQUE

END:VEVENT
END:VCALENDAR