BEGIN:VCALENDAR

VERSION:2.0
PRODID:Puschen
METHOD:REQUEST
CALSCALE:GREGORIAN

BEGIN:VEVENT

UID:20260818Current Joys
SUMMARY:Current Joys @ Huxleys Neue Welt

DTSTART;TZID=Europe/Berlin:20260818T190000

DTEND;TZID=Europe/Berlin:20260818T230000
DTSTAMP:20260420T111601
LOCATION:Huxleys Neue Welt, Hasenheide 107, 10967 Berlin
URL:https://www.tixforgigs.com/Event/73426
STATUS:CONFIRMED
TRANSPARENCY:OPAQUE

END:VEVENT
END:VCALENDAR