BEGIN:VCALENDAR

VERSION:2.0
PRODID:Puschen
METHOD:REQUEST
CALSCALE:GREGORIAN

BEGIN:VEVENT

UID:20260518Kosmonauci
SUMMARY:Kosmonauci @ Gretchen

DTSTART;TZID=Europe/Berlin:20260518T193000

DTEND;TZID=Europe/Berlin:20260518T233000
DTSTAMP:20260420T111601
LOCATION:Gretchen, Obentrautstr.19-21, 10963 Berlin
URL:https://www.tixforgigs.com/Event/73024
STATUS:CONFIRMED
TRANSPARENCY:OPAQUE

END:VEVENT
END:VCALENDAR